BEGIN:VCALENDAR
VERSION:2.0
PRODID:-//Sons of Norway - ECPv6.15.16//NONSGML v1.0//EN
CALSCALE:GREGORIAN
METHOD:PUBLISH
X-ORIGINAL-URL:https://www.sofn.com
X-WR-CALDESC:Events for Sons of Norway
REFRESH-INTERVAL;VALUE=DURATION:PT1H
X-Robots-Tag:noindex
X-PUBLISHED-TTL:PT1H
BEGIN:VTIMEZONE
TZID:America/Chicago
BEGIN:DAYLIGHT
TZOFFSETFROM:-0600
TZOFFSETTO:-0500
TZNAME:CDT
DTSTART:20240310T080000
END:DAYLIGHT
BEGIN:STANDARD
TZOFFSETFROM:-0500
TZOFFSETTO:-0600
TZNAME:CST
DTSTART:20241103T070000
END:STANDARD
BEGIN:DAYLIGHT
TZOFFSETFROM:-0600
TZOFFSETTO:-0500
TZNAME:CDT
DTSTART:20250309T080000
END:DAYLIGHT
BEGIN:STANDARD
TZOFFSETFROM:-0500
TZOFFSETTO:-0600
TZNAME:CST
DTSTART:20251102T070000
END:STANDARD
BEGIN:DAYLIGHT
TZOFFSETFROM:-0600
TZOFFSETTO:-0500
TZNAME:CDT
DTSTART:20260308T080000
END:DAYLIGHT
BEGIN:STANDARD
TZOFFSETFROM:-0500
TZOFFSETTO:-0600
TZNAME:CST
DTSTART:20261101T070000
END:STANDARD
END:VTIMEZONE
BEGIN:VEVENT
DTSTART;TZID=America/Chicago:20250611T183000
DTEND;TZID=America/Chicago:20250611T203000
DTSTAMP:20260420T024835
CREATED:20250630T195112Z
LAST-MODIFIED:20250630T195112Z
UID:10018607-1749666600-1749673800@www.sofn.com
SUMMARY:Gro Svendsen Lodge Monthly Meeting
DESCRIPTION:This month’s meeting will host a fellowship meal before the meeting at 5:45PM.  The Cultural Program will be about Sondre Norheim-Father of Modern Skiing to get our members into the mood for starting our Sports Medal Program.  Our temperatures have been above average\, so hopefully the thought of snow will cool us off.  We will hear some ideas from our Sports Program duo\, Randy Nelson and Braxton Dahl.
URL:https://www.sofn.com/event/gro-svendsen-lodge-monthly-meeting/
LOCATION:MN
CATEGORIES:Dinner
END:VEVENT
END:VCALENDAR