BEGIN:VCALENDAR
VERSION:2.0
PRODID:-//Sons of Norway - ECPv6.15.16//NONSGML v1.0//EN
CALSCALE:GREGORIAN
METHOD:PUBLISH
X-WR-CALNAME:Sons of Norway
X-ORIGINAL-URL:https://www.sofn.com
X-WR-CALDESC:Events for Sons of Norway
REFRESH-INTERVAL;VALUE=DURATION:PT1H
X-Robots-Tag:noindex
X-PUBLISHED-TTL:PT1H
BEGIN:VTIMEZONE
TZID:America/Chicago
BEGIN:DAYLIGHT
TZOFFSETFROM:-0600
TZOFFSETTO:-0500
TZNAME:CDT
DTSTART:20240310T080000
END:DAYLIGHT
BEGIN:STANDARD
TZOFFSETFROM:-0500
TZOFFSETTO:-0600
TZNAME:CST
DTSTART:20241103T070000
END:STANDARD
BEGIN:DAYLIGHT
TZOFFSETFROM:-0600
TZOFFSETTO:-0500
TZNAME:CDT
DTSTART:20250309T080000
END:DAYLIGHT
BEGIN:STANDARD
TZOFFSETFROM:-0500
TZOFFSETTO:-0600
TZNAME:CST
DTSTART:20251102T070000
END:STANDARD
BEGIN:DAYLIGHT
TZOFFSETFROM:-0600
TZOFFSETTO:-0500
TZNAME:CDT
DTSTART:20260308T080000
END:DAYLIGHT
BEGIN:STANDARD
TZOFFSETFROM:-0500
TZOFFSETTO:-0600
TZNAME:CST
DTSTART:20261101T070000
END:STANDARD
END:VTIMEZONE
BEGIN:VEVENT
DTSTART;TZID=America/Chicago:20251004T073000
DTEND;TZID=America/Chicago:20251004T110000
DTSTAMP:20260424T112444
CREATED:20250903T202301Z
LAST-MODIFIED:20250903T202301Z
UID:10018618-1759563000-1759575600@www.sofn.com
SUMMARY:Høst Frokost (Norwegian fall breakfast)
DESCRIPTION:Norwegian breakfast foods including eggs\, heart waffles\, herring\, smoked salmon\, sliced cold meats\, smørgrøt\, norsk cookies\, breads and cheeses.  Always plenty of coffee\, juice or milk. \nServing from 7:30 to 11:00 AM  – Saturday\, October 4\, 2025 \nat the Mt. Horeb\, WI community center\, 107 N. Grove St.\, Mt. Horeb\, WI
URL:https://www.sofn.com/event/host-frokost-norwegian-fall-breakfast/
LOCATION:Mt. Horeb Community Center\, 107 N. Grove Street\, Mount Horeb\, WI\, United States
CATEGORIES:Breakfast
GEO:43.0095919;-89.7400129
X-APPLE-STRUCTURED-LOCATION;VALUE=URI;X-ADDRESS=Mt. Horeb Community Center 107 N. Grove Street Mount Horeb WI United States;X-APPLE-RADIUS=500;X-TITLE=107 N. Grove Street:geo:-89.7400129,43.0095919
END:VEVENT
BEGIN:VEVENT
DTSTART;TZID=America/Chicago:20251023T183000
DTEND;TZID=America/Chicago:20251023T203000
DTSTAMP:20260424T112444
CREATED:20251015T160321Z
LAST-MODIFIED:20251015T160321Z
UID:10018699-1761244200-1761251400@www.sofn.com
SUMMARY:Stave Church Trivia Game Night
DESCRIPTION:Join Rumelva Lodge at Isanti County Historical Society as we learn about the wooden wonders that brought Christianity to the Scandinavian People during the medieval times.\nFollowing the brief history lesson\, we are going to have friendly\, stress-free trivia game. Refreshments and snacks provided complimentary of Sons of Norway Rumelva Lodge.
URL:https://www.sofn.com/event/stave-church-trivia-game-night/
LOCATION:Isanti County Historical Society\, 33525 Flanders St. NE\, Cambridge\, MN\, 55008\, United States
CATEGORIES:Viking History
ATTACH;FMTTYPE=image/jpeg:https://www.sofn.com/wp-content/uploads/2025/10/October-Meeting-Notice-Rumelva.jpg
GEO:45.5742416;-93.1928996
X-APPLE-STRUCTURED-LOCATION;VALUE=URI;X-ADDRESS=Isanti County Historical Society 33525 Flanders St. NE Cambridge MN 55008 United States;X-APPLE-RADIUS=500;X-TITLE=33525 Flanders St. NE:geo:-93.1928996,45.5742416
END:VEVENT
END:VCALENDAR