BEGIN:VCALENDAR
VERSION:2.0
PRODID:-//Sons of Norway - ECPv6.15.16//NONSGML v1.0//EN
CALSCALE:GREGORIAN
METHOD:PUBLISH
X-ORIGINAL-URL:https://www.sofn.com
X-WR-CALDESC:Events for Sons of Norway
REFRESH-INTERVAL;VALUE=DURATION:PT1H
X-Robots-Tag:noindex
X-PUBLISHED-TTL:PT1H
BEGIN:VTIMEZONE
TZID:America/Chicago
BEGIN:DAYLIGHT
TZOFFSETFROM:-0600
TZOFFSETTO:-0500
TZNAME:CDT
DTSTART:20240310T080000
END:DAYLIGHT
BEGIN:STANDARD
TZOFFSETFROM:-0500
TZOFFSETTO:-0600
TZNAME:CST
DTSTART:20241103T070000
END:STANDARD
BEGIN:DAYLIGHT
TZOFFSETFROM:-0600
TZOFFSETTO:-0500
TZNAME:CDT
DTSTART:20250309T080000
END:DAYLIGHT
BEGIN:STANDARD
TZOFFSETFROM:-0500
TZOFFSETTO:-0600
TZNAME:CST
DTSTART:20251102T070000
END:STANDARD
BEGIN:DAYLIGHT
TZOFFSETFROM:-0600
TZOFFSETTO:-0500
TZNAME:CDT
DTSTART:20260308T080000
END:DAYLIGHT
BEGIN:STANDARD
TZOFFSETFROM:-0500
TZOFFSETTO:-0600
TZNAME:CST
DTSTART:20261101T070000
END:STANDARD
END:VTIMEZONE
BEGIN:VEVENT
DTSTART;TZID=America/Chicago:20251101T170000
DTEND;TZID=America/Chicago:20251101T200000
DTSTAMP:20260424T095456
CREATED:20251010T164307Z
LAST-MODIFIED:20251010T164307Z
UID:10018695-1762016400-1762027200@www.sofn.com
SUMMARY:A Taste of Scandinavia
DESCRIPTION:
URL:https://www.sofn.com/event/a-taste-of-scandinavia/
LOCATION:Gustavus Adolphus Lutheran Church\, St. Paul\, MN\, 1669 Arcade St.\, St. Paul\, MN\, MN\, 55106\, United States
CATEGORIES:Dinner
ORGANIZER;CN="Synn%C3%B8ve-Nordkap Lodge 1-008%2C St. Paul%2C MN":MAILTO:synn-nord@gmail.com
END:VEVENT
END:VCALENDAR